BEGIN:VCALENDAR
VERSION:2.0
PRODID:http://www.kufer.de/kuferweb / DE
METHOD:PUBLISH
CALSCALE:GREGORIAN
X-WR-TIMEZONE:Europe/Berlin
BEGIN:VTIMEZONE
TZID:Europe/Berlin
X-LIC-LOCATION:Europe/Berlin
BEGIN:DAYLIGHT
TZOFFSETFROM:+0100
TZOFFSETTO:+0200
TZNAME:CEST
DTSTART;TZID=Europe/Berlin:19700329T020000
RRULE:FREQ=YEARLY;INTERVAL=1;BYDAY=-1SU;BYMONTH=3
END:DAYLIGHT
BEGIN:STANDARD
TZOFFSETFROM:+0200
TZOFFSETTO:+0100
TZNAME:CET
DTSTART;TZID=Europe/Berlin:19701025T030000
RRULE:FREQ=YEARLY;INTERVAL=1;BYDAY=-1SU;BYMONTH=10
END:STANDARD
END:VTIMEZONE
BEGIN:VEVENT
DTSTAMP:20260421T140100
DTSTART;TZID=Europe/Berlin:20260611T110000
DTEND;TZID=Europe/Berlin:20260611T120000
UID:26F30208Z-20260611T110000@VHSELLWANGEN
SUMMARY:Plitsch Platsch - Wasserspaß für Kleinkinder 2-3,5 Jahre (26F30208Z) 
LOCATION:Ellwanger Wellenbad Bewegungsbecken, Rotenbacher Straße 37, 73479 Ellwangen
END:VEVENT
BEGIN:VEVENT
DTSTAMP:20260421T140100
DTSTART;TZID=Europe/Berlin:20260618T110000
DTEND;TZID=Europe/Berlin:20260618T120000
UID:26F30208Z-20260618T110000@VHSELLWANGEN
SUMMARY:Plitsch Platsch - Wasserspaß für Kleinkinder 2-3,5 Jahre (26F30208Z) 
LOCATION:Ellwanger Wellenbad Bewegungsbecken, Rotenbacher Straße 37, 73479 Ellwangen
END:VEVENT
BEGIN:VEVENT
DTSTAMP:20260421T140100
DTSTART;TZID=Europe/Berlin:20260625T110000
DTEND;TZID=Europe/Berlin:20260625T120000
UID:26F30208Z-20260625T110000@VHSELLWANGEN
SUMMARY:Plitsch Platsch - Wasserspaß für Kleinkinder 2-3,5 Jahre (26F30208Z) 
LOCATION:Ellwanger Wellenbad Bewegungsbecken, Rotenbacher Straße 37, 73479 Ellwangen
END:VEVENT
BEGIN:VEVENT
DTSTAMP:20260421T140100
DTSTART;TZID=Europe/Berlin:20260702T110000
DTEND;TZID=Europe/Berlin:20260702T120000
UID:26F30208Z-20260702T110000@VHSELLWANGEN
SUMMARY:Plitsch Platsch - Wasserspaß für Kleinkinder 2-3,5 Jahre (26F30208Z) 
LOCATION:Ellwanger Wellenbad Bewegungsbecken, Rotenbacher Straße 37, 73479 Ellwangen
END:VEVENT
BEGIN:VEVENT
DTSTAMP:20260421T140100
DTSTART;TZID=Europe/Berlin:20260709T110000
DTEND;TZID=Europe/Berlin:20260709T120000
UID:26F30208Z-20260709T110000@VHSELLWANGEN
SUMMARY:Plitsch Platsch - Wasserspaß für Kleinkinder 2-3,5 Jahre (26F30208Z) 
LOCATION:Ellwanger Wellenbad Bewegungsbecken, Rotenbacher Straße 37, 73479 Ellwangen
END:VEVENT
BEGIN:VEVENT
DTSTAMP:20260421T140100
DTSTART;TZID=Europe/Berlin:20260716T110000
DTEND;TZID=Europe/Berlin:20260716T120000
UID:26F30208Z-20260716T110000@VHSELLWANGEN
SUMMARY:Plitsch Platsch - Wasserspaß für Kleinkinder 2-3,5 Jahre (26F30208Z) 
LOCATION:Ellwanger Wellenbad Bewegungsbecken, Rotenbacher Straße 37, 73479 Ellwangen
END:VEVENT
END:VCALENDAR