BEGIN:VCALENDAR
VERSION:2.0
PRODID:http://www.kufer.de/kuferweb / DE
METHOD:PUBLISH
CALSCALE:GREGORIAN
X-WR-TIMEZONE:Europe/Berlin
BEGIN:VTIMEZONE
TZID:Europe/Berlin
X-LIC-LOCATION:Europe/Berlin
BEGIN:DAYLIGHT
TZOFFSETFROM:+0100
TZOFFSETTO:+0200
TZNAME:CEST
DTSTART;TZID=Europe/Berlin:19700329T020000
RRULE:FREQ=YEARLY;INTERVAL=1;BYDAY=-1SU;BYMONTH=3
END:DAYLIGHT
BEGIN:STANDARD
TZOFFSETFROM:+0200
TZOFFSETTO:+0100
TZNAME:CET
DTSTART;TZID=Europe/Berlin:19701025T030000
RRULE:FREQ=YEARLY;INTERVAL=1;BYDAY=-1SU;BYMONTH=10
END:STANDARD
END:VTIMEZONE
BEGIN:VEVENT
DTSTAMP:20260424T160505
DTSTART;TZID=Europe/Berlin:20260930T183000
DTEND;TZID=Europe/Berlin:20260930T200000
UID:26H40601-20260930T183000@VHSELLWANGEN
SUMMARY:Englisch (GER B1) (26H40601) 
LOCATION:Peutinger Gymnasium;PG Raum U26, Peutingerstr. 16, 73479 Ellwangen
END:VEVENT
BEGIN:VEVENT
DTSTAMP:20260424T160505
DTSTART;TZID=Europe/Berlin:20261007T183000
DTEND;TZID=Europe/Berlin:20261007T200000
UID:26H40601-20261007T183000@VHSELLWANGEN
SUMMARY:Englisch (GER B1) (26H40601) 
LOCATION:Peutinger Gymnasium;PG Raum U26, Peutingerstr. 16, 73479 Ellwangen
END:VEVENT
BEGIN:VEVENT
DTSTAMP:20260424T160505
DTSTART;TZID=Europe/Berlin:20261014T183000
DTEND;TZID=Europe/Berlin:20261014T200000
UID:26H40601-20261014T183000@VHSELLWANGEN
SUMMARY:Englisch (GER B1) (26H40601) 
LOCATION:Peutinger Gymnasium;PG Raum U26, Peutingerstr. 16, 73479 Ellwangen
END:VEVENT
BEGIN:VEVENT
DTSTAMP:20260424T160505
DTSTART;TZID=Europe/Berlin:20261021T183000
DTEND;TZID=Europe/Berlin:20261021T200000
UID:26H40601-20261021T183000@VHSELLWANGEN
SUMMARY:Englisch (GER B1) (26H40601) 
LOCATION:Peutinger Gymnasium;PG Raum U26, Peutingerstr. 16, 73479 Ellwangen
END:VEVENT
BEGIN:VEVENT
DTSTAMP:20260424T160505
DTSTART;TZID=Europe/Berlin:20261104T183000
DTEND;TZID=Europe/Berlin:20261104T200000
UID:26H40601-20261104T183000@VHSELLWANGEN
SUMMARY:Englisch (GER B1) (26H40601) 
LOCATION:Peutinger Gymnasium;PG Raum U26, Peutingerstr. 16, 73479 Ellwangen
END:VEVENT
BEGIN:VEVENT
DTSTAMP:20260424T160505
DTSTART;TZID=Europe/Berlin:20261111T183000
DTEND;TZID=Europe/Berlin:20261111T200000
UID:26H40601-20261111T183000@VHSELLWANGEN
SUMMARY:Englisch (GER B1) (26H40601) 
LOCATION:Peutinger Gymnasium;PG Raum U26, Peutingerstr. 16, 73479 Ellwangen
END:VEVENT
BEGIN:VEVENT
DTSTAMP:20260424T160505
DTSTART;TZID=Europe/Berlin:20261118T183000
DTEND;TZID=Europe/Berlin:20261118T200000
UID:26H40601-20261118T183000@VHSELLWANGEN
SUMMARY:Englisch (GER B1) (26H40601) 
LOCATION:Peutinger Gymnasium;PG Raum U26, Peutingerstr. 16, 73479 Ellwangen
END:VEVENT
BEGIN:VEVENT
DTSTAMP:20260424T160505
DTSTART;TZID=Europe/Berlin:20261125T183000
DTEND;TZID=Europe/Berlin:20261125T200000
UID:26H40601-20261125T183000@VHSELLWANGEN
SUMMARY:Englisch (GER B1) (26H40601) 
LOCATION:Peutinger Gymnasium;PG Raum U26, Peutingerstr. 16, 73479 Ellwangen
END:VEVENT
BEGIN:VEVENT
DTSTAMP:20260424T160505
DTSTART;TZID=Europe/Berlin:20261202T183000
DTEND;TZID=Europe/Berlin:20261202T200000
UID:26H40601-20261202T183000@VHSELLWANGEN
SUMMARY:Englisch (GER B1) (26H40601) 
LOCATION:Peutinger Gymnasium;PG Raum U26, Peutingerstr. 16, 73479 Ellwangen
END:VEVENT
BEGIN:VEVENT
DTSTAMP:20260424T160505
DTSTART;TZID=Europe/Berlin:20261209T183000
DTEND;TZID=Europe/Berlin:20261209T200000
UID:26H40601-20261209T183000@VHSELLWANGEN
SUMMARY:Englisch (GER B1) (26H40601) 
LOCATION:Peutinger Gymnasium;PG Raum U26, Peutingerstr. 16, 73479 Ellwangen
END:VEVENT
END:VCALENDAR