BEGIN:VCALENDAR
VERSION:2.0
PRODID:http://www.kufer.de/kuferweb / DE
METHOD:PUBLISH
CALSCALE:GREGORIAN
X-WR-TIMEZONE:Europe/Berlin
BEGIN:VTIMEZONE
TZID:Europe/Berlin
X-LIC-LOCATION:Europe/Berlin
BEGIN:DAYLIGHT
TZOFFSETFROM:+0100
TZOFFSETTO:+0200
TZNAME:CEST
DTSTART;TZID=Europe/Berlin:19700329T020000
RRULE:FREQ=YEARLY;INTERVAL=1;BYDAY=-1SU;BYMONTH=3
END:DAYLIGHT
BEGIN:STANDARD
TZOFFSETFROM:+0200
TZOFFSETTO:+0100
TZNAME:CET
DTSTART;TZID=Europe/Berlin:19701025T030000
RRULE:FREQ=YEARLY;INTERVAL=1;BYDAY=-1SU;BYMONTH=10
END:STANDARD
END:VTIMEZONE
BEGIN:VEVENT
DTSTAMP:20260424T160654
DTSTART;TZID=Europe/Berlin:20261104T090000
DTEND;TZID=Europe/Berlin:20261104T103000
UID:26H40801-20261104T090000@VHSELLWANGEN
SUMMARY:Français en matineé (GER A2) (26H40801) 
LOCATION:vhs Ellwangen, 1. OG Schulung, Oberamtsstr. 1, 73479 Ellwangen
END:VEVENT
BEGIN:VEVENT
DTSTAMP:20260424T160654
DTSTART;TZID=Europe/Berlin:20261111T090000
DTEND;TZID=Europe/Berlin:20261111T103000
UID:26H40801-20261111T090000@VHSELLWANGEN
SUMMARY:Français en matineé (GER A2) (26H40801) 
LOCATION:vhs Ellwangen, 1. OG Schulung, Oberamtsstr. 1, 73479 Ellwangen
END:VEVENT
BEGIN:VEVENT
DTSTAMP:20260424T160654
DTSTART;TZID=Europe/Berlin:20261118T090000
DTEND;TZID=Europe/Berlin:20261118T103000
UID:26H40801-20261118T090000@VHSELLWANGEN
SUMMARY:Français en matineé (GER A2) (26H40801) 
LOCATION:vhs Ellwangen, 1. OG Schulung, Oberamtsstr. 1, 73479 Ellwangen
END:VEVENT
BEGIN:VEVENT
DTSTAMP:20260424T160654
DTSTART;TZID=Europe/Berlin:20261125T090000
DTEND;TZID=Europe/Berlin:20261125T103000
UID:26H40801-20261125T090000@VHSELLWANGEN
SUMMARY:Français en matineé (GER A2) (26H40801) 
LOCATION:vhs Ellwangen, 1. OG Schulung, Oberamtsstr. 1, 73479 Ellwangen
END:VEVENT
BEGIN:VEVENT
DTSTAMP:20260424T160654
DTSTART;TZID=Europe/Berlin:20261202T090000
DTEND;TZID=Europe/Berlin:20261202T103000
UID:26H40801-20261202T090000@VHSELLWANGEN
SUMMARY:Français en matineé (GER A2) (26H40801) 
LOCATION:vhs Ellwangen, 1. OG Schulung, Oberamtsstr. 1, 73479 Ellwangen
END:VEVENT
BEGIN:VEVENT
DTSTAMP:20260424T160654
DTSTART;TZID=Europe/Berlin:20261209T090000
DTEND;TZID=Europe/Berlin:20261209T103000
UID:26H40801-20261209T090000@VHSELLWANGEN
SUMMARY:Français en matineé (GER A2) (26H40801) 
LOCATION:vhs Ellwangen, 1. OG Schulung, Oberamtsstr. 1, 73479 Ellwangen
END:VEVENT
BEGIN:VEVENT
DTSTAMP:20260424T160654
DTSTART;TZID=Europe/Berlin:20261216T090000
DTEND;TZID=Europe/Berlin:20261216T103000
UID:26H40801-20261216T090000@VHSELLWANGEN
SUMMARY:Français en matineé (GER A2) (26H40801) 
LOCATION:vhs Ellwangen, 1. OG Schulung, Oberamtsstr. 1, 73479 Ellwangen
END:VEVENT
BEGIN:VEVENT
DTSTAMP:20260424T160654
DTSTART;TZID=Europe/Berlin:20270113T090000
DTEND;TZID=Europe/Berlin:20270113T103000
UID:26H40801-20270113T090000@VHSELLWANGEN
SUMMARY:Français en matineé (GER A2) (26H40801) 
LOCATION:vhs Ellwangen, 1. OG Schulung, Oberamtsstr. 1, 73479 Ellwangen
END:VEVENT
BEGIN:VEVENT
DTSTAMP:20260424T160654
DTSTART;TZID=Europe/Berlin:20270120T090000
DTEND;TZID=Europe/Berlin:20270120T103000
UID:26H40801-20270120T090000@VHSELLWANGEN
SUMMARY:Français en matineé (GER A2) (26H40801) 
LOCATION:vhs Ellwangen, 1. OG Schulung, Oberamtsstr. 1, 73479 Ellwangen
END:VEVENT
BEGIN:VEVENT
DTSTAMP:20260424T160654
DTSTART;TZID=Europe/Berlin:20270127T090000
DTEND;TZID=Europe/Berlin:20270127T103000
UID:26H40801-20270127T090000@VHSELLWANGEN
SUMMARY:Français en matineé (GER A2) (26H40801) 
LOCATION:vhs Ellwangen, 1. OG Schulung, Oberamtsstr. 1, 73479 Ellwangen
END:VEVENT
END:VCALENDAR